BEGIN:VCALENDAR
VERSION:2.0
PRODID:gruene-guenzburg.de
METHOD:PUBLISH
BEGIN:VTIMEZONE
TZID:Europe/Berlin
X-LIC-LOCATION:Europe/Berlin
BEGIN:DAYLIGHT
TZOFFSETFROM:+0100
TZOFFSETTO:+0200
TZNAME:CEST
DTSTART:19700329T020000
RRULE:FREQ=YEARLY;INTERVAL=1;BYDAY=-1SU;BYMONTH=3
END:DAYLIGHT
BEGIN:STANDARD
TZOFFSETFROM:+0200
TZOFFSETTO:+0100
TZNAME:CET
DTSTART:19701025T030000
RRULE:FREQ=YEARLY;INTERVAL=1;BYDAY=-1SU;BYMONTH=10
END:STANDARD
END:VTIMEZONE
BEGIN:VEVENT
UID:15ad83ef333ce71f01cce3054610d7c1@gruene-guenzburg.de
URL;VALUE=URI:https://gruene-guenzburg.de/termine/infostand-leipheim-4/
LOCATION:Von Richthofen Straße, Leipheim
SUMMARY:Infostand Leipheim
DESCRIPTION;ALTREP="data:text/html,%0A%3Cp%3EAm%20Freitag%2C%2006.%20Okto
 ber%202023%2C%20von%208%20bis%2012%20Uhr%20auf%20dem%20Leipheimer%20Woche
 nmarkt%20in%20der%20N%C3%A4he%20des%20Stadtbrunnens.%20Thema%3A%20Landtag
 swahl%20in%20Bayern.%3C%2Fp%3E%0A":Am Freitag\, 06. Oktober 2023\, von 8 
 bis 12 Uhr auf dem Leipheimer Wochenmarkt in der Nähe des Stadtbrunnens.
  Thema: Landtagswahl in Bayern.
CLASS:PUBLIC
DTSTART;TZID=Europe/Berlin:20231006T080000
DTEND;TZID=Europe/Berlin:20231006T120000
DTSTAMP:20260424T232434
END:VEVENT
END:VCALENDAR