BEGIN:VCALENDAR
VERSION:2.0
PRODID:gruene-guenzburg.de
METHOD:PUBLISH
BEGIN:VTIMEZONE
TZID:Europe/Berlin
X-LIC-LOCATION:Europe/Berlin
BEGIN:DAYLIGHT
TZOFFSETFROM:+0100
TZOFFSETTO:+0200
TZNAME:CEST
DTSTART:19700329T020000
RRULE:FREQ=YEARLY;INTERVAL=1;BYDAY=-1SU;BYMONTH=3
END:DAYLIGHT
BEGIN:STANDARD
TZOFFSETFROM:+0200
TZOFFSETTO:+0100
TZNAME:CET
DTSTART:19701025T030000
RRULE:FREQ=YEARLY;INTERVAL=1;BYDAY=-1SU;BYMONTH=10
END:STANDARD
END:VTIMEZONE
BEGIN:VEVENT
UID:2e2c1dc394867be0b2c7f1bc9d494d7c@gruene-guenzburg.de
URL;VALUE=URI:https://gruene-guenzburg.de/termine/ov-guenzburg-koetz-jahr
 esversammlung-3/
LOCATION:Café Rosengäßchen, Rosengäßchen 3 1/2, Günzburg
SUMMARY:OV Günzburg – Kötz: Jahresversammlung
DESCRIPTION;ALTREP="data:text/html,%0A%3Cp%3EAm%20Mittwoch%2C%20den%2029.
 04.26%2C%20findet%20unsere%20Jahresversammlung%20im%20Caf%C3%A9%20Roseng%
 C3%A4%C3%9Fchen%20statt.%20Beginn%20ist%20um%2019%20Uhr.%3C%2Fp%3E%0A":Am
  Mittwoch\, den 29.04.26\, findet unsere Jahresversammlung im Café Rosen
 gäßchen statt. Beginn ist um 19 Uhr.
CLASS:PUBLIC
DTSTART;TZID=Europe/Berlin:20260429T190000
DTEND;TZID=Europe/Berlin:20260429T210000
DTSTAMP:20260420T030312
END:VEVENT
END:VCALENDAR