BEGIN:VCALENDAR
VERSION:2.0
PRODID:gruene-guenzburg.de
METHOD:PUBLISH
BEGIN:VTIMEZONE
TZID:Europe/Berlin
X-LIC-LOCATION:Europe/Berlin
BEGIN:DAYLIGHT
TZOFFSETFROM:+0100
TZOFFSETTO:+0200
TZNAME:CEST
DTSTART:19700329T020000
RRULE:FREQ=YEARLY;INTERVAL=1;BYDAY=-1SU;BYMONTH=3
END:DAYLIGHT
BEGIN:STANDARD
TZOFFSETFROM:+0200
TZOFFSETTO:+0100
TZNAME:CET
DTSTART:19701025T030000
RRULE:FREQ=YEARLY;INTERVAL=1;BYDAY=-1SU;BYMONTH=10
END:STANDARD
END:VTIMEZONE
BEGIN:VEVENT
UID:7b948df1507a00414f63a9907c601985@gruene-guenzburg.de
URL;VALUE=URI:https://gruene-guenzburg.de/termine/stammtisch-ov-leipheim-
 4/
LOCATION:Hotel "Zur Post", Bahnhofstraße 6, 89340 Leipheim
SUMMARY:Stammtisch OV Leipheim
DESCRIPTION;ALTREP="data:text/html,%0A%3Cp%3EWir%20wollen%20unsere%20Stam
 mtischreihe%20auch%20nach%20der%20Kommunalwahl%20fortsetzen%20und%20laden
 %20ein%20zu%20einem%20lockeren%20Austausch%20und%20zum%20gegenseiten%20Ke
 nnenlernen.%20Wir%20treffen%20uns%20am%20Mittwoch%2C%2017.%20Juni%202026%
 20ab%2019%20Uhr%20im%20Leipheimer%20Hotel%20%22Zur%20Post%22.%20Alle%20Mi
 tglieder%2C%20Sympathisanten%20und%20sonstige%20Interessierte%20sind%20he
 rzlich%20willkommen.%3C%2Fp%3E%0A":Wir wollen unsere Stammtischreihe auch
  nach der Kommunalwahl fortsetzen und laden ein zu einem lockeren Austaus
 ch und zum gegenseiten Kennenlernen. Wir treffen uns am Mittwoch\, 17. Ju
 ni 2026 ab 19 Uhr im Leipheimer Hotel "Zur Post". Alle Mitglieder\, Sympa
 thisanten und sonstige Interessierte sind herzlich willkommen.
CLASS:PUBLIC
DTSTART;TZID=Europe/Berlin:20260617T190000
DTEND;TZID=Europe/Berlin:20260617T200000
DTSTAMP:20260420T023408
END:VEVENT
END:VCALENDAR