BEGIN:VCALENDAR
VERSION:2.0
PRODID:gruene-guenzburg.de
METHOD:PUBLISH
BEGIN:VTIMEZONE
TZID:Europe/Berlin
X-LIC-LOCATION:Europe/Berlin
BEGIN:DAYLIGHT
TZOFFSETFROM:+0100
TZOFFSETTO:+0200
TZNAME:CEST
DTSTART:19700329T020000
RRULE:FREQ=YEARLY;INTERVAL=1;BYDAY=-1SU;BYMONTH=3
END:DAYLIGHT
BEGIN:STANDARD
TZOFFSETFROM:+0200
TZOFFSETTO:+0100
TZNAME:CET
DTSTART:19701025T030000
RRULE:FREQ=YEARLY;INTERVAL=1;BYDAY=-1SU;BYMONTH=10
END:STANDARD
END:VTIMEZONE
BEGIN:VEVENT
UID:d3631642872cd167875bcbf0c4570232@gruene-guenzburg.de
URL;VALUE=URI:https://gruene-guenzburg.de/termine/treffen-des-ak-mobilita
 et/
LOCATION:Traubenkeller-Poseidon Günzburg, Dillinger Straße 20, 89312 G
 ünzburg
SUMMARY:Treffen des AK Mobilität
DESCRIPTION;ALTREP="data:text/html,%0A%3Cfigure%20class%3D%22wp-block-ima
 ge%20size-large%22%3E%3Cimg%20src%3D%22http%3A%2F%2Fgruene-guenzburg.de%2
 Fwp-content%2Fuploads%2F2023%2F01%2Ftreffen-des-ak-mobilitaet-im-l-2-800x
 533.png%22%20alt%3D%22%22%20class%3D%22wp-image-3175%22%20%2F%3E%3C%2Ffig
 ure%3E%0A%0A%0A%0A%3Cp%3E%3C%2Fp%3E%0A%0A%0A%0A%3Cp%3EAm%2008.02.2023%20t
 rifft%20sich%20wieder%20der%20Arbeitskreis%20Mobilit%C3%A4t%20des%20Landk
 reises%20G%C3%BCnzburg.%20Das%20Treffen%20in%20gem%C3%BCtlicher%20Runde%2
 0beginnt%20um%2018%3A30%20im%20Restaurant%20Traubenkeller-Poseidon%20in%2
 0G%C3%BCnzburg.%3C%2Fp%3E%0A%0A%0A%0A%3Cp%3EHierzu%20ist%20nat%C3%BCrlich
 %20wieder%20jeder%20herzlich%20eingeladen%20der%20Interesse%20an%20der%20
 Mobilit%C3%A4t%20im%20Landkreis%20G%C3%BCnzburg%20hat%20und%20zu%20einer%
 20Verbesserung%20beitragen%20m%C3%B6chte.%3C%2Fp%3E%0A%0A%0A%0A%3Cp%3EWir
 %20freuen%20uns%20auf%20Euren%20Besuch%20und%20einen%20offenen%20Austausc
 h%20untereinander%21%3C%2Fp%3E%0A":Am 08.02.2023 trifft sich wieder der A
 rbeitskreis Mobilität des Landkreises Günzburg. Das Treffen in gemütli
 cher Runde beginnt um 18:30 im Restaurant Traubenkeller-Poseidon in Günz
 burg.\n\nHierzu ist natürlich wieder jeder herzlich eingeladen der Inter
 esse an der Mobilität im Landkreis Günzburg hat und zu einer Verbesseru
 ng beitragen möchte.\n\nWir freuen uns auf Euren Besuch und einen offene
 n Austausch untereinander!
CLASS:PUBLIC
DTSTART;TZID=Europe/Berlin:20230208T183000
DTEND;TZID=Europe/Berlin:20230208T203000
DTSTAMP:20260425T234129
END:VEVENT
END:VCALENDAR